BEGIN:VCALENDAR
VERSION:2.0
PRODID:-//Manuel Alcaraz Clemente - ECPv6.15.19//NONSGML v1.0//EN
CALSCALE:GREGORIAN
METHOD:PUBLISH
X-WR-CALNAME:Manuel Alcaraz Clemente
X-ORIGINAL-URL:https://manuelalcarazclemente.com/de
X-WR-CALDESC:Veranstaltungen für Manuel Alcaraz Clemente
REFRESH-INTERVAL;VALUE=DURATION:PT1H
X-Robots-Tag:noindex
X-PUBLISHED-TTL:PT1H
BEGIN:VTIMEZONE
TZID:UTC
BEGIN:STANDARD
TZOFFSETFROM:+0000
TZOFFSETTO:+0000
TZNAME:UTC
DTSTART:20150101T000000
END:STANDARD
END:VTIMEZONE
BEGIN:VEVENT
DTSTART;TZID=UTC:20170906T182000
DTEND;TZID=UTC:20170906T190000
DTSTAMP:20260424T101346
CREATED:20170508T065804Z
LAST-MODIFIED:20170508T065804Z
UID:403-1504722000-1504724400@manuelalcarazclemente.com
SUMMARY:Lucerne Festival---- Young Performance/ "40 min" Concert
DESCRIPTION:More info here:
URL:https://manuelalcarazclemente.com/de/event/lucerne-festival-young-performance-40-min-concert/
LOCATION:KKL Luzern\, Lucerne \, Suiza
END:VEVENT
BEGIN:VEVENT
DTSTART;VALUE=DATE:20170828
DTEND;VALUE=DATE:20170911
DTSTAMP:20260424T101346
CREATED:20170118T093501Z
LAST-MODIFIED:20170118T093501Z
UID:368-1503878400-1505087999@manuelalcarazclemente.com
SUMMARY:Lucerne Festival ---- Young Performance Project
DESCRIPTION:Info here
URL:https://manuelalcarazclemente.com/de/event/lucerne-festival-young-performance-project/
LOCATION:KKL Luzern\, Lucerne \, Suiza
END:VEVENT
BEGIN:VEVENT
DTSTART;VALUE=DATE:20170812
DTEND;VALUE=DATE:20170813
DTSTAMP:20260424T101346
CREATED:20170326T120338Z
LAST-MODIFIED:20170326T120338Z
UID:390-1502496000-1502582399@manuelalcarazclemente.com
SUMMARY:Klang_Stadl 2017
DESCRIPTION:
URL:https://manuelalcarazclemente.com/de/event/klang_stadl-2017/
LOCATION:Stadl an der Mur\, Austria
END:VEVENT
BEGIN:VEVENT
DTSTART;TZID=UTC:20170612T193000
DTEND;TZID=UTC:20170612T213000
DTSTAMP:20260424T101346
CREATED:20170308T101045Z
LAST-MODIFIED:20170308T101046Z
UID:383-1497295800-1497303000@manuelalcarazclemente.com
SUMMARY:Schallfeld Ensemble ---- Multiple Räume
DESCRIPTION:Eine Expedition in klangliche und geografische Raumideen mit Werken für Ensemble. \nProgram: \nREBECCA SAUNDERS (*1967) Quartett für Akkordeon\, Kontrabass\, Schlagzeug und Klarinette (1998) 15 ́ \nUROS ROJKO (*1954) Stone Wind VI für Ensemble (2015) 12 ́ \nGEORG FRIEDRICH HAAS (*1953) Tria ex Uno für 6 Instrumente (2001) 16 ́ \nANAHITA ABBASI (*1985) Situation I / Incidents (2016) für Akk\, tenorsax\, Klav\, Schlag\, Cello\, Kb 9 ́ \nSEHYUNG KIM (*1987) Sijo_171116 das Gesicht des Anderen (Kompositionsauftrag von ORF und Jeunesse)
URL:https://manuelalcarazclemente.com/de/event/schallfeld-ensemble-multiple-raume/
LOCATION:Minoritensaal-Graz\, Mariahilferpl. 3\, Graz \, Austria
END:VEVENT
BEGIN:VEVENT
DTSTART;TZID=UTC:20170514T110000
DTEND;TZID=UTC:20170514T120000
DTSTAMP:20260424T101346
CREATED:20170514T171505Z
LAST-MODIFIED:20170514T171505Z
UID:414-1494759600-1494763200@manuelalcarazclemente.com
SUMMARY:Grazer Philharmonisches Orchester
DESCRIPTION:Bilder einer Ausstellung \nMore info here:
URL:https://manuelalcarazclemente.com/de/event/grazer-philharmonisches-orchester-4/
LOCATION:Oper Graz\,  Kaiser-Josef-Platz 10\, Graz\, Austria
END:VEVENT
BEGIN:VEVENT
DTSTART;TZID=UTC:20170510T110000
DTEND;TZID=UTC:20170510T120000
DTSTAMP:20260424T101346
CREATED:20170514T171221Z
LAST-MODIFIED:20170514T171221Z
UID:411-1494414000-1494417600@manuelalcarazclemente.com
SUMMARY:Grazer Philharmonisches Orchester
DESCRIPTION:Bilder einer Ausstellung \nMore info here:
URL:https://manuelalcarazclemente.com/de/event/grazer-philharmonisches-orchester-3/
LOCATION:Oper Graz\, Austria
END:VEVENT
BEGIN:VEVENT
DTSTART;TZID=UTC:20170430T200000
DTEND;TZID=UTC:20170430T220000
DTSTAMP:20260424T101346
CREATED:20170308T101753Z
LAST-MODIFIED:20170319T132928Z
UID:385-1493582400-1493589600@manuelalcarazclemente.com
SUMMARY:Schallfeld Ensemble ---- Saisonkonzert Land Steiermark – Artists in Residence
DESCRIPTION:Salvatore Sciarrino: Lo Spazio Inverso für Celesta\, Flöte\, Klarinette\, Geige\, Cello \nDaniela Fantechi: Corale\, Impressioni su Rotkho Stück für Flöte\, Bassklarinette\, Altosax\, Geige\, Cello\, Kontrabass \nJorge Diego Vázquez Salvagno: Kenko für Flöte\, Klarinette\, Sax\, Schlagzeug\, Geige\, Cello\, Elektronik \nDante Grela: Ecos de lejanias für Flöte\, Klarinette\, Geige\, Cello \, Klavier \nHelmut Lachenmann: Pression für solo Cello\nAnsgar: Incontro Concertante für Flöte\, Klarinette\, Cello\, Klavier
URL:https://manuelalcarazclemente.com/de/event/schallfeld-ensemble-saisonkonzert-land-steiermark-artists-in-residence/
LOCATION:Johann-Joseph-Fux Konservatorium\, Entenplatz 1b\, Graz\, Austria
END:VEVENT
BEGIN:VEVENT
DTSTART;TZID=UTC:20170420T193000
DTEND;TZID=UTC:20170420T213000
DTSTAMP:20260424T101346
CREATED:20170308T100340Z
LAST-MODIFIED:20170308T101348Z
UID:380-1492716600-1492723800@manuelalcarazclemente.com
SUMMARY:Klangforum Wien ---- «Déjà-vu»
DESCRIPTION:Program: \nDieter Ammann – Le réseau des reprises (2013-2014) (EA) \nOndřej Adámek – Ça tourne ça bloque \nBernhard Lang\, Klangforum Wien – scan (UA)
URL:https://manuelalcarazclemente.com/de/event/klangforum-wien-deja-vu/
LOCATION:Konzerthaus- Mozart-Saal\, Lothringerstraße 20\, 1030 Wien\, Vienna \, Austria
END:VEVENT
BEGIN:VEVENT
DTSTART;TZID=UTC:20170415T193000
DTEND;TZID=UTC:20170415T213000
DTSTAMP:20260424T101346
CREATED:20170411T173916Z
LAST-MODIFIED:20170411T174104Z
UID:394-1492284600-1492291800@manuelalcarazclemente.com
SUMMARY:Ensemble Colmena en la Neomudéjar
DESCRIPTION:Music by J. Quislant\, F. Donatoni\, G. Aperghis\, V. Globokar\, S. Diez-Fischer and T. Murail
URL:https://manuelalcarazclemente.com/de/event/ensemble-colmena-en-la-neomudejar/
LOCATION:C/Antonio Nebrija s/n\, 28007 Madrid\, Spain\, Madrid \, España
END:VEVENT
BEGIN:VEVENT
DTSTART;VALUE=DATE:20170325
DTEND;VALUE=DATE:20170326
DTSTAMP:20260424T101346
CREATED:20170110T125723Z
LAST-MODIFIED:20170110T125723Z
UID:364-1490400000-1490486399@manuelalcarazclemente.com
SUMMARY:TEDxYouth Paseo del Prado
DESCRIPTION:Manuel Alcaraz Clemente —- Speaker 2017 \nMore info here:
URL:https://manuelalcarazclemente.com/de/event/tedxyouth-paseo-del-prado/
LOCATION:Impact Hub Madrid\, Calle de la Alameda\, 22\, 28014 \, Madrid \, España
END:VEVENT
BEGIN:VEVENT
DTSTART;TZID=UTC:20170307T193000
DTEND;TZID=UTC:20170307T213000
DTSTAMP:20260424T101346
CREATED:20170219T141740Z
LAST-MODIFIED:20170219T141740Z
UID:377-1488915000-1488922200@manuelalcarazclemente.com
SUMMARY:Grazer Philharmonisches Orchester
DESCRIPTION:More info here:
URL:https://manuelalcarazclemente.com/de/event/grazer-philharmonisches-orchester-2/
LOCATION:Stephaniensaal Graz\, Graz\, Austria
END:VEVENT
BEGIN:VEVENT
DTSTART;TZID=UTC:20170306T193000
DTEND;TZID=UTC:20170306T213000
DTSTAMP:20260424T101346
CREATED:20170219T141543Z
LAST-MODIFIED:20170219T141543Z
UID:374-1488828600-1488835800@manuelalcarazclemente.com
SUMMARY:Grazer Philharmonisches Orchester
DESCRIPTION:More info here:
URL:https://manuelalcarazclemente.com/de/event/grazer-philharmonisches-orchester/
LOCATION:Stephaniensaal Graz\, Graz\, Austria
END:VEVENT
BEGIN:VEVENT
DTSTART;TZID=UTC:20170304T183000
DTEND;TZID=UTC:20170304T213000
DTSTAMP:20260424T101346
CREATED:20161124T191415Z
LAST-MODIFIED:20161124T191415Z
UID:300-1488652200-1488663000@manuelalcarazclemente.com
SUMMARY:Lucerne Festival Alumni - Matthias Pintscher's Universe
DESCRIPTION:Matthias Pintscher’s artistic cosmos knows no boundaries. As resident composer of the first Elbphilharmonie season\, his works are not only to be heard in a variety of concerts\, but he also makes appearances on the podium.
URL:https://manuelalcarazclemente.com/de/event/lucerne-festival-alumni-matthias-pintschers-universe/
LOCATION:ELBPHILHARMONIE HAMBURG KLEINER SAAL\, Hamburg \, Alemania
END:VEVENT
BEGIN:VEVENT
DTSTART;TZID=UTC:20170217T200000
DTEND;TZID=UTC:20170217T220000
DTSTAMP:20260424T101346
CREATED:20170131T111649Z
LAST-MODIFIED:20170131T111649Z
UID:371-1487361600-1487368800@manuelalcarazclemente.com
SUMMARY:Schallfeld Ensemble ------ Concert at Impuls Festival
DESCRIPTION:Program: \nRaphaël Cendo —– Graphein\, 2014 \nAgostino Di Scipio —– Texture-Multiple\, 1993–2005\, Version für Klavier\, Vibraphon\, Flöte\, Klarinette\, Saxophon\, Violine\, Violoncello\, Kontrabass und Elektronik \nJoan Gómez Alemany —– La religión del Sonido\, 2016\, UA \nSylvain Marty —- Lithuanian rotation\, 2016 \nEiko Tsukamoto —-  Avec les œufs\, 2017\, UA \n  \nMore info here:
URL:https://manuelalcarazclemente.com/de/event/schallfeld-ensemble-concert-at-impuls-festival/
LOCATION:Mumuth- György-Ligeti-Saal\, Graz \, Austria
END:VEVENT
BEGIN:VEVENT
DTSTART;VALUE=DATE:20170211
DTEND;VALUE=DATE:20170219
DTSTAMP:20260424T101346
CREATED:20161123T182923Z
LAST-MODIFIED:20170131T111746Z
UID:242-1486771200-1487462399@manuelalcarazclemente.com
SUMMARY:Schallfeld Ensemble in residency in Impuls Academy
DESCRIPTION:More info here:
URL:https://manuelalcarazclemente.com/de/event/schallfeld-ensemble-in-residency-in-impuls-academy/
END:VEVENT
BEGIN:VEVENT
DTSTART;TZID=UTC:20161230T200000
DTEND;TZID=UTC:20161230T220000
DTSTAMP:20260424T101346
CREATED:20161124T092339Z
LAST-MODIFIED:20161124T092339Z
UID:292-1483128000-1483135200@manuelalcarazclemente.com
SUMMARY:Noviga Projekto - Festival DME
DESCRIPTION:Music by J. P. Oliveira\, J. Reis\, K. Lang\, L. Harrison\, N. Mashayekhi
URL:https://manuelalcarazclemente.com/de/event/noviga-projekto-festival-dme/
LOCATION:Seia \, Portugal
END:VEVENT
BEGIN:VEVENT
DTSTART;TZID=UTC:20161213T073000
DTEND;TZID=UTC:20161213T213000
DTSTAMP:20260424T101346
CREATED:20161123T182402Z
LAST-MODIFIED:20161207T110147Z
UID:239-1481614200-1481664600@manuelalcarazclemente.com
SUMMARY:Ensemble für Neue Musik - KUG
DESCRIPTION:New pieces by Jonatan Sersam\, Egid Jöchl\, Xu Weiwei\, Sanja Lasic and Akos Zarandy! \nSzilard BENES – Klarinette\, Tsugumi SHIRAKURA – Klavier | Leitung: Edo MIČIĆ\nBeginn 19:30 György-Ligeti-Saal \nENSEMBLE FÜR NEUE MUSIK\nFlöte – Elena Gabbrielli\nOboe – Sergio Lopez-Bernardo\nKlarinette – Szilard Benes\nSaxophon – Stephanie Schoiswohl\nFagotte – Gergő Palásti\nHorn – Daniel Palkövi\nTrompet – David Schmidt\nPosaune – Lee Wen – Cheh\nKlavier – Tsugumi Shirakura\nSchlagzeug – Manuel Alcazar\, Sebastian Riener\nGitarre – Jessica Miriam Kaiser\nAkkordeon – Mirko Jevtovic\nGeige – Lorenzo Derinni\nGeige – Jovana Raljic\nBratsche – Cristina Arandes Macian\nCello – Esteban Belinchon\nKontrabass – Juan Pablo Trad Hasbun
URL:https://manuelalcarazclemente.com/de/event/ensemble-fur-neue-musik-kug/
LOCATION:Mumuth- György-Ligeti-Saal\, Graz \, Austria
END:VEVENT
BEGIN:VEVENT
DTSTART;TZID=UTC:20161201T200000
DTEND;TZID=UTC:20161201T220000
DTSTAMP:20260424T101346
CREATED:20161123T181847Z
LAST-MODIFIED:20161123T181936Z
UID:236-1480622400-1480629600@manuelalcarazclemente.com
SUMMARY:Dúa de Pel + Manuel Alcaraz
DESCRIPTION:
URL:https://manuelalcarazclemente.com/de/event/dua-de-pel-manuel-alcaraz/
LOCATION:Galería Ra del Rey\, C/Reina 11\, Madrid \, España
END:VEVENT
BEGIN:VEVENT
DTSTART;TZID=UTC:20161121T200000
DTEND;TZID=UTC:20161121T220000
DTSTAMP:20260424T101346
CREATED:20161123T180934Z
LAST-MODIFIED:20161123T180934Z
UID:232-1479758400-1479765600@manuelalcarazclemente.com
SUMMARY:Schallfeld Ensemble - Die andere Seite
DESCRIPTION:Schallfeld Ensemble\nAnnette Schönmüller – Mezzosopran\nLeonhard Garms – Dirigent\nProgramm\nCarola Bauckholt (1959): Laufwerk (2011-2014)\nFür Ensemble und Samples (Flöte\, Klarinette\, Klavier\, Schlagzeug\, 2 Geige\, Bratsche\, Cello\, Kontrabass und Zuspielelung) \nCharris Efthimiou: Medtner\nDominik Matzka: Als das Schaukelpferd erkannte\, dass er sterblich war\nChristoph Renhart: Échos éloquents \nStefano Gervasoni (1962): Godspell (2002) Five poems by Philip Levine \nFor Mezzo and nine instruments (Mezzosopran\, Flöte\, Klarinette\, Klavier/Celesta\, Schlagzeug\, 2 Geige\, Bratsche\, Cello\, Kontrabass) \nI- The west wind \nII- Home for the Holiday \nIII- Godspell \nIV- Growing Season \nV- Brooklyn Morning
URL:https://manuelalcarazclemente.com/de/event/schallfeld-ensemble-die-andere-seite/
LOCATION:Minoritensaal-Graz\, Mariahilferpl. 3\, Graz \, Austria
END:VEVENT
BEGIN:VEVENT
DTSTART;TZID=UTC:20161109T193000
DTEND;TZID=UTC:20161109T213000
DTSTAMP:20260424T101346
CREATED:20161123T180111Z
LAST-MODIFIED:20161123T180111Z
UID:229-1478719800-1478727000@manuelalcarazclemente.com
SUMMARY:Klangforum Wien - Wien Modern
DESCRIPTION:Klangforum Wien – Dirigent: Bas Wiegers – Eva Reiter\, Paetzold-Kontrabassflöte\, Perfor-mance – Uli Fussenegger\, Kontrabass – Florian Müller\, Cembalo – Ursula Langmayr\, Sopran – Johanna von der Deken\, Mezzosopran – Florian Bogner\, Peter Böhm\, Tontechnik\nWerke von Reiter\, Cerha\, Gubaidulina\, Cage\nKonzerthaus\, Mozart-Saal\, 19.30 Uhr
URL:https://manuelalcarazclemente.com/de/event/klangforum-wien-wien-modern/
LOCATION:Konzerthaus- Mozart-Saal\, Lothringerstraße 20\, 1030 Wien\, Vienna \, Austria
END:VEVENT
BEGIN:VEVENT
DTSTART;TZID=UTC:20161030T120000
DTEND;TZID=UTC:20161030T130000
DTSTAMP:20260424T101346
CREATED:20161124T090844Z
LAST-MODIFIED:20161124T090938Z
UID:284-1477828800-1477832400@manuelalcarazclemente.com
SUMMARY:[:en]In_keys duo[:es]In_keys duo[:de]In_keys duo [:]
DESCRIPTION:In_keys dúo: Patricia Cadaveira (Saxophone) + Manuel Alcaraz (Percussion)
URL:https://manuelalcarazclemente.com/de/event/in_keys-duo/
LOCATION:Museo de Bellas Artes\, Rúa Zalaeta\, 2\, A Coruña \, España
END:VEVENT
BEGIN:VEVENT
DTSTART;VALUE=DATE:20160814
DTEND;VALUE=DATE:20160908
DTSTAMP:20260424T101346
CREATED:20161124T090544Z
LAST-MODIFIED:20161124T090544Z
UID:281-1471132800-1473292799@manuelalcarazclemente.com
SUMMARY:Lucerne Festival Academy
DESCRIPTION:
URL:https://manuelalcarazclemente.com/de/event/lucerne-festival-academy/
LOCATION:KKL Luzern\, Lucerne \, Suiza
END:VEVENT
BEGIN:VEVENT
DTSTART;TZID=UTC:20160801T213000
DTEND;TZID=UTC:20160801T230000
DTSTAMP:20260424T101346
CREATED:20161124T091256Z
LAST-MODIFIED:20161124T091711Z
UID:288-1470087000-1470092400@manuelalcarazclemente.com
SUMMARY:Manuel Alcaraz + Cayetano Gómez -  Percussion duo
DESCRIPTION:44è Festival de Música d’Estiu 2016: concert „Re-encountered Percussion“\, a càrrec del duet de percussió format per Cayetano Gómez i Manuel Alcaraz.\nHo organitza Joventuts Musicals de Ciutadella.
URL:https://manuelalcarazclemente.com/de/event/manuel-alcaraz-cayetano-gomez-percussion-duo/
LOCATION:Teatre de Calos\, Carrer Maria Auxiliadora\, 10\, Ciutadella de Menorca \, España
END:VEVENT
BEGIN:VEVENT
DTSTART;VALUE=DATE:20160729
DTEND;VALUE=DATE:20160815
DTSTAMP:20260424T101346
CREATED:20161123T183741Z
LAST-MODIFIED:20161123T183741Z
UID:244-1469750400-1471219199@manuelalcarazclemente.com
SUMMARY:Schallfeld Ensemble - Darmstadt 48 Internationale Ferienkurse für Neue Musik
DESCRIPTION:Schallfeld Ensemble – Darmstadt 48 Internationale Ferienkurse für Neue Musik
URL:https://manuelalcarazclemente.com/de/event/schallfeld-ensemble-darmstadt-48-internationale-ferienkurse-fur-neue-musik/
LOCATION:Darmstadt \, Alemania
END:VEVENT
BEGIN:VEVENT
DTSTART;TZID=UTC:20160520T200000
DTEND;TZID=UTC:20160520T220000
DTSTAMP:20260424T101346
CREATED:20161123T184720Z
LAST-MODIFIED:20161124T145903Z
UID:247-1463774400-1463781600@manuelalcarazclemente.com
SUMMARY:[:en]Schallfeld Ensemble - tage neuer musik graz[:es]Schallfeld Ensemble - tage neuer musik graz[:de]Schallfeld Ensemble - Stimme(n) im Rausch - tage neuer musik graz[:]
DESCRIPTION:Die erstmals 2014 veranstalteten tage neuer musik graz werden 2016 von der Konzertreihe die andere saite\, dem Ensemble Zeitfluss\, der IGNM Steiermark\, dem Kulturzentrum bei den Minoriten – Neue Musik\, dem Ensemble Schallfeld sowie open music getragen und widmen sich dem Motto “Musik und Sprache”.
URL:https://manuelalcarazclemente.com/de/event/schallfeld-ensemble-tage-neuer-musik-graz/
LOCATION:Minoritensaal-Graz\, Mariahilferpl. 3\, Graz \, Austria
END:VEVENT
BEGIN:VEVENT
DTSTART;TZID=UTC:20160520T183000
DTEND;TZID=UTC:20160520T200000
DTSTAMP:20260424T101346
CREATED:20161124T150139Z
LAST-MODIFIED:20161124T150139Z
UID:297-1463769000-1463774400@manuelalcarazclemente.com
SUMMARY:Konzert – IGNM Steiermark mnemosyne I
DESCRIPTION:Freitag\, 20. Mai 2016\, 18:30\nGroßer Minoritensaal | Mariahilferplatz 3\, 8020 Graz \nElisabeth Harnik: im Möglichkeitsraum aus Händen (UA) \nfür Gebärdensprachperformerin\, Stimme\, Flöte und Vibraphon \nAgostino Di Scipio: Audible EcoSystemics n.3b für Stimme und Live-Elektronik (2004-2005)\nBeat Furrer: auf töneren Füßen für Stimme und Flöte (2001)\nOlga Neuwirth: Spleen II für Bassflöte (1999)\nLuigi Nono: Omaggio a Emilio Vedova für Tonband (1960)\nReinhold Schinwald: nICHt für Stimme und Flöte (2013)\nBrian Ferneyhough: Mnemosyne für Bassflote und Zuspielband (1986) \nGina Mattiello – Stimme \nIlona Seidel-Jerey – Gebärdensprachperformerin\nMaruta Staravoitava – Flöte\, Bassflöte \nManuel Alcaraz Clemente – Vibraphon\nReinhold Schinwald – Klangregie\nKonzeption: Gina Mattiello\, Reinhold Schinwald\, Maruta Staravoitava \nZwischen Erinnern und Vergessen: In «mnemosyne I» treffen zwei Interpretinnen aus den Bereichen Neue Musik und Theater auf einen Komponisten und Klangregisseur. Diese Zusammenarbeit zeitigt ein differenziertes Spektrum von Kompositionen für Flöte\, Stimme und Live-Elektronik. Die akustischen Eigenschaften des Aufführungsraumes samt ZuhörerInnen\, der Resonanzraum der Flöte sowie der Mundraum einer Performerin werden hörbar gemacht. Sprachbezogene Kompositionen fördern implizit und explizit musikalische Aspekte der Texte zutage\, begreifen ihre Architektur als Ausgangspunkt für Klangstrukturen oder übertragen ihre Semantik in klangliche Metaphern. «mnemosyne I» verweist auf die Dialektik von Erinnern und Vergessen\, wie auf die Möglichkeit beim Hören von Musik die Konstituierung von Zeit und Zeitbewusstsein unmittelbar wahrzunehmen. \nReinhold Schinwald \nElisabeth Harniks neues Werk\, das in diesem Konzert uraufgeführt wird\, beschäftigt sich mit der Poesie von Gehörlosen\, die für uns sinnlich Hörende mit dem von ihr konzipierten Instrumentarium „übersetzt“ werden wird. Gebärdensprachlicher Text nach dem Gedicht „Hände Ohne Ende“ von Romeo Seifert (Video: Le Rose Daniele). Frei zitiert nach Voltaire: „Gebärdensprache ist ein Stoff den die Natur gewebt und die Phantasie illustriert hat.“ Der lautsprachliche Text entstand in Zusammenarbeit mit Ilona Seidel-Jerey. Mit freundlicher Unterstützung von Christian Stalzer (Institut für Translationswissenschaften der Karl-Franzens-Universität Graz) und dem Zentrum für Genderforschung der Kunstuniversität Graz. \nElfriede Reissig
URL:https://manuelalcarazclemente.com/de/event/konzert-ignm-steiermark-mnemosyne-i/
LOCATION:Minoritensaal-Graz\, Mariahilferpl. 3\, Graz \, Austria
END:VEVENT
BEGIN:VEVENT
DTSTART;TZID=UTC:20160411T200000
DTEND;TZID=UTC:20160411T220000
DTSTAMP:20260424T101346
CREATED:20161124T090320Z
LAST-MODIFIED:20161124T090320Z
UID:278-1460404800-1460412000@manuelalcarazclemente.com
SUMMARY:Zeitfluss Ensemble - … delle cose invisibili ...
DESCRIPTION:
URL:https://manuelalcarazclemente.com/de/event/zeitfluss-ensemble-delle-cose-invisibili/
LOCATION:Minoritensaal-Graz\, Mariahilferpl. 3\, Graz \, Austria
END:VEVENT
BEGIN:VEVENT
DTSTART;TZID=UTC:20160310T213000
DTEND;TZID=UTC:20160310T223000
DTSTAMP:20260424T101346
CREATED:20161123T195503Z
LAST-MODIFIED:20161123T195503Z
UID:275-1457645400-1457649000@manuelalcarazclemente.com
SUMMARY:Noviga Projekto - Encontros de Música de Vila do Conde
DESCRIPTION:
URL:https://manuelalcarazclemente.com/de/event/noviga-projekto-encontros-de-musica-de-vila-do-conde/
LOCATION:Teatro de Vila do Conde\, Av. Dr. João Canavarro\, Vila do Conde \, Portugal
END:VEVENT
BEGIN:VEVENT
DTSTART;TZID=UTC:20160226T090000
DTEND;TZID=UTC:20160226T223000
DTSTAMP:20260424T101346
CREATED:20161123T193048Z
LAST-MODIFIED:20161123T193650Z
UID:262-1456477200-1456525800@manuelalcarazclemente.com
SUMMARY:Schallfeld Ensemble - Conservatorio di S.Cecilia – Rome
DESCRIPTION:Program\nJ.M. Staud – Lagrein\nG.F. Haas – tria ex uno\nA. Webern – Quartett op 22\nDenovaire – Lady McBeth\nF. Bedrossian – It\nAndrés Gutiérrez Martínez – IO\n800px-Bundeskanzleramt_(Österreich)_logo.svg
URL:https://manuelalcarazclemente.com/de/event/schallfeld-ensemble-conservatorio-di-s-cecilia-rome/
LOCATION:Conservatorio S.Cecilia\, via dei Greci 18 \, Roma \, Italia
END:VEVENT
BEGIN:VEVENT
DTSTART;TZID=UTC:20160224T203000
DTEND;TZID=UTC:20160224T223000
DTSTAMP:20260424T101346
CREATED:20161123T191232Z
LAST-MODIFIED:20161123T191232Z
UID:259-1456345800-1456353000@manuelalcarazclemente.com
SUMMARY:Schallfeld Ensemble -  SoW Milan
DESCRIPTION:J.M. Staud – Lagrein\nG.F. Haas – tria ex uno\nA. Webern – Quartett op 22\nDenovaire – Lady Macbeth\nF. Bedrossian – It\nS. Càneva – Dish to Disk\, to Dash\nG. Rendina Cattani – Rooms\nM. Rivera – In Absentia\nIn collaboration with Sound of Wander\nWith the support of Forum austriaco di Cultura Milano
URL:https://manuelalcarazclemente.com/de/event/schallfeld-ensemble-sow-milan/
LOCATION:Auditorium Lattuada\, corso di porta vigentina 15 \, Milano \, Italia
END:VEVENT
END:VCALENDAR