BEGIN:VCALENDAR
VERSION:2.0
PRODID:-//Manuel Alcaraz Clemente - ECPv6.15.19//NONSGML v1.0//EN
CALSCALE:GREGORIAN
METHOD:PUBLISH
X-WR-CALNAME:Manuel Alcaraz Clemente
X-ORIGINAL-URL:https://manuelalcarazclemente.com/de
X-WR-CALDESC:Veranstaltungen für Manuel Alcaraz Clemente
REFRESH-INTERVAL;VALUE=DURATION:PT1H
X-Robots-Tag:noindex
X-PUBLISHED-TTL:PT1H
BEGIN:VTIMEZONE
TZID:UTC
BEGIN:STANDARD
TZOFFSETFROM:+0000
TZOFFSETTO:+0000
TZNAME:UTC
DTSTART:20210101T000000
END:STANDARD
END:VTIMEZONE
BEGIN:VEVENT
DTSTART;VALUE=DATE:20231113
DTEND;VALUE=DATE:20231114
DTSTAMP:20260423T202745
CREATED:20230414T172519Z
LAST-MODIFIED:20231104T085251Z
UID:1693-1699833600-1699919999@manuelalcarazclemente.com
SUMMARY:Schallfeld Ensemble --- SAISON KONZERT III: LABYRINTHE
DESCRIPTION:György Ligeti – Kammerkonzert \nMarko Nikodijević – music box / selbstportrait mit ligeti und strawinsky (und messiaen ist auch dabei) \nAnahita Abbasi: Distorted Attitudes II (Labyrinth) \nFlorent Caron Darras: Soleil mat
URL:https://manuelalcarazclemente.com/de/event/schallfeld-ensemble-saison-konzert-iii-labyrinthe/
LOCATION:Maria Cäsar Saal\, Volkshaus Graz\, Lagergasse 98\, Graz\, Austria
END:VEVENT
BEGIN:VEVENT
DTSTART;TZID=UTC:20231023T193000
DTEND;TZID=UTC:20231023T213000
DTSTAMP:20260423T202745
CREATED:20230501T180014Z
LAST-MODIFIED:20230501T180014Z
UID:1708-1698089400-1698096600@manuelalcarazclemente.com
SUMMARY:Ensemble Kontrapunkte --- Musikverein
DESCRIPTION:Ensemble Kontrapunkte\nGottfried Rabl \nDobrovicescu • Davies • Walton \n\n\n\nINTERPRETEN\n\nEnsemble Kontrapunkte\nGottfried Rabl | Dirigent und Moderation\nEmily Cox | Sprecherin\n\n\n\nPROGRAMM\n\nSânziana-Cristina Dobrovicescu: Neues Werk (Uraufführung)\nPeter Maxwell Davies: Fantasia on a Ground and Two Pavans\nPeter Maxwell Davies: Fantasia upon One Note\nJacques Ibert: Divertissement für Kammerorchester\nWilliam Turner Walton: Façade. An Entertainment; erste Fassung 1923
URL:https://manuelalcarazclemente.com/de/event/ensemble-kontrapunkte-musikverein-2/
LOCATION:BRAHMS-SAAL\, MUSIKVEREIN\, Musikvereinspl. 1\, Vienna\, 1010\, Austria
END:VEVENT
BEGIN:VEVENT
DTSTART;TZID=UTC:20231015T200000
DTEND;TZID=UTC:20231015T213000
DTSTAMP:20260423T202745
CREATED:20231006T081446Z
LAST-MODIFIED:20231006T081446Z
UID:1767-1697400000-1697405400@manuelalcarazclemente.com
SUMMARY:Ensemble PHACE --- Festival Internacional de Música de Canarias 2
DESCRIPTION:Programm \nMirela Ivicevic\nCase Black for 7 instruments & electronics\, 2016  8’ \nJosé Luis Perdigón\nill-use III for bass flute\, bass clarinet\, piano\, percussion\, violin\, cello and e-guitar\, 2023 (wp) \nFausto Romitelli\nProfessor Bad Trip: Lesson I – III for ensemble and electronics\, 1998-2000
URL:https://manuelalcarazclemente.com/de/event/ensemble-phace-festival-internacional-de-musica-de-canarias-2/
LOCATION:Teatro Guiniguada\, C. Mesa de León\, 2\, Las Palmas de Gran Canaria\, Spain
END:VEVENT
BEGIN:VEVENT
DTSTART;TZID=UTC:20231014T200000
DTEND;TZID=UTC:20231014T213000
DTSTAMP:20260423T202745
CREATED:20231006T081206Z
LAST-MODIFIED:20231006T081220Z
UID:1764-1697313600-1697319000@manuelalcarazclemente.com
SUMMARY:Ensemble PHACE --- Festival Internacional de Música de Canarias 1
DESCRIPTION:Programm \nMirela Ivicevic\nCase Black for 7 instruments & electronics\, 2016  8’ \nJosé Luis Perdigón\nill-use III for bass flute\, bass clarinet\, piano\, percussion\, violin\, cello and e-guitar\, 2023 (wp) \nFausto Romitelli\nProfessor Bad Trip: Lesson I – III for ensemble and electronics\, 1998-2000
URL:https://manuelalcarazclemente.com/de/event/ensemble-phace-festival-internacional-de-musica-de-canarias/
LOCATION:Espacio la Granja\, Av. de Bélgica\, 7\, Santa Cruz de Tenerife\, Spain
END:VEVENT
BEGIN:VEVENT
DTSTART;TZID=UTC:20231007T180000
DTEND;TZID=UTC:20231007T233000
DTSTAMP:20260423T202745
CREATED:20230803T052458Z
LAST-MODIFIED:20230803T052458Z
UID:1753-1696701600-1696721400@manuelalcarazclemente.com
SUMMARY:Lange Nacht der Museen
DESCRIPTION:
URL:https://manuelalcarazclemente.com/de/event/lange-nacht-der-museen/
LOCATION:Palais Attems\, Sackstraße 17\, Graz\, 8010\, Austria
END:VEVENT
BEGIN:VEVENT
DTSTART;TZID=UTC:20231007T110000
DTEND;TZID=UTC:20231007T120000
DTSTAMP:20260423T202745
CREATED:20230803T052944Z
LAST-MODIFIED:20230803T052944Z
UID:1756-1696676400-1696680000@manuelalcarazclemente.com
SUMMARY:ARTikulationen --- Artistic Research Journeys
DESCRIPTION:Premiere of the new piece for solo Bass Drum by Faidra Chafta-Douka
URL:https://manuelalcarazclemente.com/de/event/artikulationen-artistic-research-journeys/
LOCATION:KUG Reiterkaserne\, Leonhardstraße 82-84\, Graz\, Austria
END:VEVENT
BEGIN:VEVENT
DTSTART;TZID=UTC:20231006T213000
DTEND;TZID=UTC:20231006T230000
DTSTAMP:20260423T202745
CREATED:20230704T082126Z
LAST-MODIFIED:20230704T082229Z
UID:1748-1696627800-1696633200@manuelalcarazclemente.com
SUMMARY:Schallfeld Ensemble --- Musikprotokoll 2023
DESCRIPTION:Das Grazer Ensemble Schallfeld vermisst die akustischen Verbindungen zur physischen Welt. Carlo Elia Praderio nennt sein neues Werk Dune. Die graduellen Übergänge vom Einzelinstrument zum Ensemble in dieser akustischen „Düne“ sind für ihn Metaphern für eine Umweltveränderung: kleine Veränderungen mit großen Auswirkungen. \nKatharina Klement setzt ebenfalls Individuum und Raum in Beziehung: In Monde II nutzt sie Klänge von Betonmischern\, gefüllt mit unterschiedlichen Materialien wie Sand oder Holz. Die dabei entstandenen Loops überträgt sie in ein zirkuläres Raumkonzept\, analog zum Modell mehrerer Monde\, die individuell kreisend eine offene Gesamtheit bilden und so eine zusammenhängende monde (Welt) schaffen. \nIn Beat Furrers Intorno al bianco für Klarinette und Streichquartett geht es ebenfalls um die Kommunikation zwischen Ensemble und Individuum. Sehyung Kim setzt neun Instrumente in Beziehung zu Live-Elektronik und zum Thema Plastik.
URL:https://manuelalcarazclemente.com/de/event/schallfeld-ensemble-musikprotokoll-2023/
LOCATION:Helmut List Halle\, Waagner-Biro-Straße 98a\, Graz\, Steiermark\, 8020
END:VEVENT
BEGIN:VEVENT
DTSTART;VALUE=DATE:20231002
DTEND;VALUE=DATE:20231003
DTSTAMP:20260423T202745
CREATED:20230501T175316Z
LAST-MODIFIED:20230501T175316Z
UID:1706-1696204800-1696291199@manuelalcarazclemente.com
SUMMARY:Das Erdbeben in Chili – Steirischer Herbst
DESCRIPTION:More info coming soon
URL:https://manuelalcarazclemente.com/de/event/das-erdbeben-in-chili-steirischer-herbst-3/
LOCATION:Dom in Berg\, Schlossbergsteig Graz\, Graz\, 8010\, Austria
END:VEVENT
BEGIN:VEVENT
DTSTART;VALUE=DATE:20230930
DTEND;VALUE=DATE:20231001
DTSTAMP:20260423T202745
CREATED:20230501T175143Z
LAST-MODIFIED:20230501T175143Z
UID:1704-1696032000-1696118399@manuelalcarazclemente.com
SUMMARY:Das Erdbeben in Chili – Steirischer Herbst
DESCRIPTION:More info coming soon
URL:https://manuelalcarazclemente.com/de/event/das-erdbeben-in-chili-steirischer-herbst-2/
LOCATION:Dom in Berg\, Schlossbergsteig Graz\, Graz\, 8010\, Austria
END:VEVENT
BEGIN:VEVENT
DTSTART;VALUE=DATE:20230928
DTEND;VALUE=DATE:20230929
DTSTAMP:20260423T202745
CREATED:20230501T174850Z
LAST-MODIFIED:20230501T174850Z
UID:1702-1695859200-1695945599@manuelalcarazclemente.com
SUMMARY:Das Erdbeben in Chili – Steirischer Herbst
DESCRIPTION:More info coming soon
URL:https://manuelalcarazclemente.com/de/event/das-erdbeben-in-chili-steirischer-herbst/
LOCATION:Dom in Berg\, Schlossbergsteig Graz\, Graz\, 8010\, Austria
END:VEVENT
BEGIN:VEVENT
DTSTART;TZID=UTC:20230911T200000
DTEND;TZID=UTC:20230911T213000
DTSTAMP:20260423T202745
CREATED:20230604T183429Z
LAST-MODIFIED:20230604T183723Z
UID:1739-1694462400-1694467800@manuelalcarazclemente.com
SUMMARY:Schallfeld Ensemble --- Klangspuren Festival Concert II
DESCRIPTION:Timothy McCormack: Neues Werk\, 2023\, UA\nKompositionsauftrag finanziert durch die Ernst von Siemens Musikstiftung\nAnna Korsun: Neues Werk\, 2023\, UA\nKompositionsauftrag finanziert durch die Ernst von Siemens Musikstiftung\nHannes Kerschbaumer: Umfaltet\, 2023\, UA\nChaya Czernowin: Fast Darkness III: Moonwords\, 2022 \n\n\nSchallfeld Ensemble:\nElisa Azzarà\, Flöten \nSzilárd Benes\, Klarinetten \nMatej Bunderla\, Saxophone \nGeorge Lolas\, Akkordeon \nManuel Alcaraz Clemente\, Schlagzeug \nMaria Flavia Cerrato\, Klavier \nLorenzo Derinni\, Violine \nFrancesca Piccioni\, Viola \nMyriam García Fidalgo\, Violoncello \nFrantišek Výrostko\, Kontrabass \nPierre-André Valade\, Dirigent \nTyler Bouque\, Solo Stimme (Bariton) \nHelēna Sorokina\, Solo Stimme (Altistin)\nPierre-André Valade\, Dirigent \nco-curated by Clara Iannotta
URL:https://manuelalcarazclemente.com/de/event/schallfeld-ensemble-klangspuren-festival-concert-ii/
LOCATION:ORF Tirol\, Studio 3\, Innsbruck\, Austria
END:VEVENT
BEGIN:VEVENT
DTSTART;TZID=UTC:20230907T200000
DTEND;TZID=UTC:20230907T210000
DTSTAMP:20260423T202745
CREATED:20230604T182838Z
LAST-MODIFIED:20230604T183001Z
UID:1735-1694116800-1694120400@manuelalcarazclemente.com
SUMMARY:Schallfeld Ensemble --- Jubiläumskonzert 30x Klangspuren Schwaz
DESCRIPTION:SCHWAZ | SZENTRUM\, SILBERSAAL \n\nOle Hübner: Neues Werk\, 2023\, UA\nClara Olivares: Neues Werk\, 2023\, UA\nFausto Romitelli: Professor Bad Trip\, Lesson I\, for eight instruments and electronics\, 1998 \n\n\nSchallfeld Ensemble\nElisa Azzarà\, Flöten\, Szilárd Benes\, Klarinetten\, Matej Bunderla\, Saxophone\, Samuel Toro Pérez\, E-Gitarre\, Manuel Alcaraz Clemente\, Schlagzeug\, Maria Flavia Cerrato\, Klavier\, Lorenzo Derinni\, Violine\, Jacobo Díaz Robledillo\, Viola\, Myriam García Fidalgo\, Violoncello\, František Výrostko\, Kontrabass\,\nDavide Gagliardi\, Klangregie\, live electronics\nLeonhard Garms\, Dirigent
URL:https://manuelalcarazclemente.com/de/event/schallfeld-ensemble-jubilaumskonzert-30x-klangspuren-schwaz/
LOCATION:SZentrum\, Silbersaal\, Andreas Hofer Str. 10\, Schwaz\, 6130
END:VEVENT
BEGIN:VEVENT
DTSTART;VALUE=DATE:20230810
DTEND;VALUE=DATE:20230813
DTSTAMP:20260423T202745
CREATED:20230414T181016Z
LAST-MODIFIED:20230528T135910Z
UID:1698-1691625600-1691884799@manuelalcarazclemente.com
SUMMARY:Schallfeld Ensemble --- "a waiting - singspiel mit musik"
DESCRIPTION:„a waiting – singspiel mit musik“ \nWelturaufführung: 10. August 2023\, 19:30 Uhr\nweitere Vorstellungen: 11. und 12. August 2023\, jeweils 19:30 Uhr \nOrt: Volkshaus Graz\, Grosser Saal\nLagergasse 98\, 8020 Graz \nKarten: office@a-waiting.mur.at\nWebseite: https://www.a-waiting.mur.at/ \nTeam: \nEIN (Mezzosopran): Annette Schönmüller\nEINER (Tenor): Adrián Berthely \nOrchester: Schallfeld Ensemble mit\nElisa Azzarà (Flöte)\nSzilard Benes (Klarinette)\nDiego Garcia Pliego (Saxophon)\nManuel Alcaraz Clemente (Percussion)\nMirko Jevtovic (Akkordeon)\nLorenzo Derinni (Violine)\nMyriam Garcia Fidalgo (Violoncello)\nMargarethe Maierhofer-Lischka (Kontrabass) \nKomposition und musikalische Leitung: Henrik Sande\nText und Produktion: Albert Pall
URL:https://manuelalcarazclemente.com/de/event/schallfeld-ensemble-a-waiting/
LOCATION:Volkshaus\, Lagergasse 98a\, Graz\, 8020\, Austria
END:VEVENT
BEGIN:VEVENT
DTSTART;TZID=UTC:20230723T200000
DTEND;TZID=UTC:20230723T213000
DTSTAMP:20260423T202745
CREATED:20230107T110815Z
LAST-MODIFIED:20230604T182349Z
UID:1626-1690142400-1690147800@manuelalcarazclemente.com
SUMMARY:Schallfeld Ensemble --- Impuls Festival OPENING
DESCRIPTION:PROGRAM\nBrian Ferneyhough La Chute d’Icare\, for mixed Ensemble (1988) \nFrancesco Filidei Finito Ogni Gesto\, per sei strumenti (2010) \nFrancesca Verunelli Cinemaolio\, for fl\, cl\, pno\, vln\, vla\, cello (2014) \nDmitri Kourliandski Banlieu (2023\, UA) \nElena Rykova In the Presence of Absence (2022\, commissioned by Internationale Ensemble Modern Akademie and Mixtur Festival im Rahmen des durch das Creative Europe Programme of the European Union geförderten Ulysses Netzwerks)
URL:https://manuelalcarazclemente.com/de/event/impuls-festival/
LOCATION:Mumuth- György-Ligeti-Saal\, Graz \, Austria
END:VEVENT
BEGIN:VEVENT
DTSTART;TZID=UTC:20230711T200000
DTEND;TZID=UTC:20230711T210000
DTSTAMP:20260423T202745
CREATED:20230330T135825Z
LAST-MODIFIED:20230528T140409Z
UID:1657-1689105600-1689109200@manuelalcarazclemente.com
SUMMARY:Àgora Percussion Festival --- Solo concert
DESCRIPTION:Solo Concert: \nProgram: \nFloreal (música celestial II) (1976) — Tomás Marco \nMetáforas líquidas (2020) — Voro García \nExtensions II (1988) — Roman Haubenstock – Ramati * \nAn Elemental Thing (2017) — Liza Lim \n*Manuel Alcaraz Clemente: solo percussion
URL:https://manuelalcarazclemente.com/de/event/agora-percussion-festival-solo-concert/
LOCATION:La Casa Del Cable Espai D’art\, Camí Casetes\, 6\, Jávea\, 03730\, Spain
END:VEVENT
BEGIN:VEVENT
DTSTART;TZID=UTC:20230605T180000
DTEND;TZID=UTC:20230605T210000
DTSTAMP:20260423T202745
CREATED:20220811T091414Z
LAST-MODIFIED:20220811T091414Z
UID:1556-1685988000-1685998800@manuelalcarazclemente.com
SUMMARY:Recreation Grosses Orchester Graz --- GERSHWIN!
DESCRIPTION:PROGRAMM\nGeorge Gershwin: Catfish Row. Symphonic Suite aus „Porgy and Bess“\nAn American in Paris\nRhapsody in Blue \n18.00 Uhr \n20.00 Uhr
URL:https://manuelalcarazclemente.com/de/event/recreation-grosses-orchester-graz-gershwin-2/
LOCATION:Stefanielsaal Graz\, Sparkassenpl. 1\, Graz\, 8010\, Austria
END:VEVENT
BEGIN:VEVENT
DTSTART;TZID=UTC:20230518T180000
DTEND;TZID=UTC:20230518T190000
DTSTAMP:20260423T202745
CREATED:20220828T075350Z
LAST-MODIFIED:20230405T171413Z
UID:1568-1684432800-1684436400@manuelalcarazclemente.com
SUMMARY:Real-time festival Bremen --- Imitation game
DESCRIPTION:Imitation Game\n\n\nKonzert für Schlagzeuger und Perkussion-KI \nDO| 18. Mai 2023\n18.00 Uhr Konzert: Imitation Game\nWeserburg Museum für moderne Kunst / Otte-Klanghaus \nAm Donnerstag\, 18. Mai\, wird in der Weserburg Museum für Moderne Kunst das Stück der griechischen Komponistin Artemi-Maria Gioti während des realtime-festivals aufgeführt.\nDas Stück setzt sich\, passend zum Motto „Mensch-Musik-Maschine“ des Festivals\, mit den aktuellen Tendenzen der Technik im Bereich der Neuen Musik auseinander. \nKann eine Künstliche Intelligenz (KI) Schlagzeug spielen?\nDie Komponistin Artemi-Maria Gioti hat sich dieser Frage gestellt. Für ihr Werk Imitation Game entwickelte sie ein robotisiertes Schlagzeug\, das KI-gesteuert mit einem menschlichen Schlagzeuger im Duett spielt. Da dieses Miteinander eine Art Improvisationsmusik ist\, klingt dieses Zusammenspiel bei jeder Aufführung anders. Das KI-Schlagzeug reagiert auf die rhythmischen\, klanglichen und dynamischen Vorgaben des Duettpartners ebenso wie der Schlagzeuger auf die Vorgaben des Roboter-Schlagzeugers. Das Publikum kann hören und beobachten\, wie sich beide „Musiker“ gegenseitig befruchten. \nDas Stück dauert etwa eine Viertelstunde und wird zweimal gespielt. Vor dem ersten und zweiten Kurzkonzert wird die künstlerische Leiterin des Festivals\, Claudia Janet Birkholz\, mit der Komponistin über die Besonderheiten des Stücks\, die Variationen und die komplizierte Apparatur sprechen. Denn vorab bauten der Schlagzeuger und die Komponistin mehrere Tage lang beide Schlagzeuge auf und stimmten sie untereinander ab.\nNach dem Konzert beantwortet Artemi-Maria Gioti die Fragen des Publikums. \nIn Kooperation mit der Weserburg Museum für moderne Kunst Bremen \nKünstler:innen.\nArtemi-Maria Gioti – Komponistin\nManuel Alcaraz Clemente – Perkussion\nWerk: Imitation Game (2018) von Artemi-Maria Gioti \nTicket: 15 € / ermäßigt: 12 € im VVK über Nordwest-Ticket sowie an der Abendkasse\n(ermäßigt sind alle Menschen bis 30 Jahre\, Auszubildende\, Studierende\, Rentner*innen\, Erwerbslose und Schwerbeschädigte)
URL:https://manuelalcarazclemente.com/de/event/real-time-festival-bremen/
LOCATION:Weserburg Museum\, Teerhof 20\, Bremen\, 28199\, Germany
END:VEVENT
BEGIN:VEVENT
DTSTART;VALUE=DATE:20230512
DTEND;VALUE=DATE:20230514
DTSTAMP:20260423T202745
CREATED:20230121T165232Z
LAST-MODIFIED:20230121T165307Z
UID:1643-1683849600-1684022399@manuelalcarazclemente.com
SUMMARY:Workshop for composers and concert ---  CSMIB (Superior Conservatory of Music and Dance of the Balearic Islands)
DESCRIPTION:more info coming soon
URL:https://manuelalcarazclemente.com/de/event/workshop-for-composers-and-concert-csmib-superior-conservatory-of-music-and-dance-of-the-balearic-islands/
LOCATION:Conservatori Superior de Musica de les Illes Balears\, C/ d'Alfons el Magnànim\, 64\, Palma\, 07004\, Spain
END:VEVENT
BEGIN:VEVENT
DTSTART;TZID=UTC:20230505T193000
DTEND;TZID=UTC:20230505T213000
DTSTAMP:20260423T202745
CREATED:20230107T110602Z
LAST-MODIFIED:20230405T172537Z
UID:1624-1683315000-1683322200@manuelalcarazclemente.com
SUMMARY:SONify! Festival Graz
DESCRIPTION:Friday\, 05.05.2023\, 19:30h\nAULA\n…und ebenso dieser Augenblick\nPetra Slottova\, Flöte\nGeorgios Lolas\, Akkordeon\nOlivia Palmer-Baker\, Kontraforte\nManuel Alcaraz Clemente\, Perkussion\nFaidra Chafta-Douka*\, Komposition\nEhsan Khatibi*\, Komposition\nJakob Stillmark*\, Komposition
URL:https://manuelalcarazclemente.com/de/event/sonify-festival-graz/
LOCATION:KUG\, Graz\, Austria
END:VEVENT
BEGIN:VEVENT
DTSTART;TZID=UTC:20230318T140000
DTEND;TZID=UTC:20230318T170000
DTSTAMP:20260423T202745
CREATED:20230121T164503Z
LAST-MODIFIED:20230121T164503Z
UID:1637-1679148000-1679158800@manuelalcarazclemente.com
SUMMARY:Workshop - Musikschule Ehrenhausen
DESCRIPTION:
URL:https://manuelalcarazclemente.com/de/event/workshop-musikschule-ehrenhausen/
LOCATION:Musikschule Ehrenhausen\, Marktplatz 26a\, Ehrenhausen an der Weinstraße\, 8461
END:VEVENT
BEGIN:VEVENT
DTSTART;VALUE=DATE:20230315
DTEND;VALUE=DATE:20230316
DTSTAMP:20260423T202745
CREATED:20230107T111300Z
LAST-MODIFIED:20230107T111300Z
UID:1628-1678838400-1678924799@manuelalcarazclemente.com
SUMMARY:Schallfeld Ensemble --- GMPU Klagenfurt
DESCRIPTION:https://www.gmpu.ac.at/forschung/komposition/projekte
URL:https://manuelalcarazclemente.com/de/event/schallfeld-ensemble-gmpu-klagenfurt/
LOCATION:Gustav Mahler Privatuniversität für Musik\, Mießtaler Str. 8\, Klagenfurt am Wörthersee\, 9020\, Austria
END:VEVENT
BEGIN:VEVENT
DTSTART;TZID=UTC:20230306T180000
DTEND;TZID=UTC:20230306T213000
DTSTAMP:20260423T202745
CREATED:20230209T015856Z
LAST-MODIFIED:20230209T015945Z
UID:1648-1678125600-1678138200@manuelalcarazclemente.com
SUMMARY:Recreation Grosses Orchester Graz --- RACHMAN­INOW!
DESCRIPTION:PROGRAMM\nWolfgang Amadeus Mozart: Sinfonie\nSergei Rachmaninow: Klavierkonzert Nr. 3 in d\, op. 30 \nVorstellungen: \n18.00 Uhr \n20.00 Uhr
URL:https://manuelalcarazclemente.com/de/event/recreation-grosses-orchester-graz-rachmaninow/
LOCATION:Stefanielsaal Graz\, Sparkassenpl. 1\, Graz\, 8010\, Austria
END:VEVENT
BEGIN:VEVENT
DTSTART;TZID=UTC:20230228T193000
DTEND;TZID=UTC:20230228T213000
DTSTAMP:20260423T202745
CREATED:20221114T180140Z
LAST-MODIFIED:20221114T180816Z
UID:1607-1677612600-1677619800@manuelalcarazclemente.com
SUMMARY:ENSEMBLE KONTRAPUNKTE - Musikverein
DESCRIPTION:PROGRAMM\nCharles Edward Ives\nThe Unanswered Question\n\nGérard Grisey\nQuatre chants pour franchir le seuil\n\n— Pause —\n\n\nNed Rorem\nThe Unquestioned Answer (Österreichische Erstaufführung)\n\nOthmar Schoeck\n\n\nNachhall\, op. 70\n\nEnde ca.: 21:30
URL:https://manuelalcarazclemente.com/de/event/ensemble-kontrapunkte-musikverein/
LOCATION:BRAHMS-SAAL\, MUSIKVEREIN\, Musikvereinspl. 1\, Vienna\, 1010\, Austria
END:VEVENT
BEGIN:VEVENT
DTSTART;VALUE=DATE:20230210
DTEND;VALUE=DATE:20230212
DTSTAMP:20260423T202745
CREATED:20230121T164922Z
LAST-MODIFIED:20230121T164922Z
UID:1640-1675987200-1676159999@manuelalcarazclemente.com
SUMMARY:Workshop for composers --- CSMIB (Superior Conservatory of Music and Dance of the Balearic Islands)
DESCRIPTION:More info coming soon
URL:https://manuelalcarazclemente.com/de/event/workshop-for-composers-csmib-superior-conservatory-of-music-and-dance-of-the-balearic-islands/
LOCATION:Conservatori Superior de Musica de les Illes Balears\, C/ d'Alfons el Magnànim\, 64\, Palma\, 07004\, Spain
END:VEVENT
BEGIN:VEVENT
DTSTART;TZID=UTC:20230203T200000
DTEND;TZID=UTC:20230203T220000
DTSTAMP:20260423T202745
CREATED:20221007T192249Z
LAST-MODIFIED:20221007T192249Z
UID:1581-1675454400-1675461600@manuelalcarazclemente.com
SUMMARY:LUCERNE FESTIVAL CONTEMPORARY ORCHESTRA - ELBPHILHARMONIE
DESCRIPTION:BESETZUNG\nLucerne Festival Contemporary Orchestra (LFCO) \nNicolas Hodges Klavier \nDirigent Sylvain Cambreling \n\n\n\nPROGRAMM\nRebecca Saunders\nto an utterance für Klavier und Orchester \n– Pause – \nDieter Ammann\nCore für Orchester\nTurn für Orchester\nBoost für Orchester
URL:https://manuelalcarazclemente.com/de/event/lucerne-festival-contemporary-orchestra-elbphilharmonie/
LOCATION:Elbphilharmonie Hamburg Grosser Saal\, Platz d. Deutschen Einheit 4\, Hamburg\, 20457\, Germany
END:VEVENT
BEGIN:VEVENT
DTSTART;TZID=UTC:20230121T140000
DTEND;TZID=UTC:20230121T170000
DTSTAMP:20260423T202745
CREATED:20230119T103731Z
LAST-MODIFIED:20230119T103731Z
UID:1635-1674309600-1674320400@manuelalcarazclemente.com
SUMMARY:Workshop --- Musikschule Heiligenkreuz am Waasen
DESCRIPTION:
URL:https://manuelalcarazclemente.com/de/event/workshop-musikschule-heiligenkreuz-am-waasen/
END:VEVENT
BEGIN:VEVENT
DTSTART;TZID=UTC:20221216T200000
DTEND;TZID=UTC:20221216T220000
DTSTAMP:20260423T202745
CREATED:20220828T074950Z
LAST-MODIFIED:20220828T074950Z
UID:1565-1671220800-1671228000@manuelalcarazclemente.com
SUMMARY:NIK P. Symphonic
DESCRIPTION:
URL:https://manuelalcarazclemente.com/de/event/nik-p-symphonic/
LOCATION:Großes Festspielhaus Salzburg\, Hofstallgasse 1\, Salzburg\, 5020\, Austria
END:VEVENT
BEGIN:VEVENT
DTSTART;TZID=UTC:20221212T200000
DTEND;TZID=UTC:20221212T213000
DTSTAMP:20260423T202745
CREATED:20221121T215744Z
LAST-MODIFIED:20221209T155532Z
UID:1616-1670875200-1670880600@manuelalcarazclemente.com
SUMMARY:Double Bass and Percussion - ZZM Klagenfurt
DESCRIPTION:R. Saunders\, F. Donatoni\, K. Saariaho\, G. Scelsi\, I. Xenakis
URL:https://manuelalcarazclemente.com/de/event/buro-lunaire-automatic-speech/
LOCATION:Gemeindezentrum St. Ruprecht\, Kinopl. 3\, Klagenfurt am Wörthersee\, 9020
END:VEVENT
BEGIN:VEVENT
DTSTART;TZID=UTC:20221206T193000
DTEND;TZID=UTC:20221206T210000
DTSTAMP:20260423T202745
CREATED:20220828T073540Z
LAST-MODIFIED:20220828T073540Z
UID:1563-1670355000-1670360400@manuelalcarazclemente.com
SUMMARY:Schallfeld Ensemble --- BEYOND PLEASURE
DESCRIPTION:In collaboration with Opera NOW\, Schallfeld will perform two world premieres by Jonatan Sersam and Jorge Gómez Elizondo. \nBEYOND PLEASURE \nA one-act monodrama for a solo actor with three musicians. The inspiration comes from Freud’s theory of the “death drive” described in his book Beyond the Pleasure Principle. \n\nJonatan Sersam (SWE) | Concept\, Text\, Composition\, Performance \nAnna-Karin Rasmusson (SWE) | Videoart \nwith Schallfeld Ensemble \n\nJorge Gómez Elizondo \nNew Piece for bass clarinet\, percussion\, accordion\, electronics and video.
URL:https://manuelalcarazclemente.com/de/event/schallfeld-ensemble-beyond-pleasure/
LOCATION:Theater am Lend\, Wiener Str. 58a\, Graz\, 8020
END:VEVENT
BEGIN:VEVENT
DTSTART;VALUE=DATE:20221203
DTEND;VALUE=DATE:20221205
DTSTAMP:20260423T202745
CREATED:20221023T164441Z
LAST-MODIFIED:20221023T164554Z
UID:1585-1670025600-1670198399@manuelalcarazclemente.com
SUMMARY:Seven Circles --- RiesenOhrenAbenteuer Kinder/Krabbelkonzerte
DESCRIPTION:Shows: \n3.12.2022 \n9.00 h. \n10.30 h. \n4.12.2022 \n9.00 h. \n10.30 h.
URL:https://manuelalcarazclemente.com/de/event/seven-circles-riesenohrenabenteuer-kinder-krabbelkonzerte-2/
LOCATION:Volkshaus\, Lagergasse 98a\, Graz\, 8020\, Austria
END:VEVENT
END:VCALENDAR